Workbook

Sheet Instructions
A1: How to complete this form
A2: 1 | B2: The information at the top of the Sample Details page is used to assign the samples to your account, and send your results and invoice. It is important that you provide a current email address and phone number so that we can contact you. In the Flock Code cell, please enter your existing flock code if you have done DNA testing in the past. If you envisage wanting ASBVs in the future, please contact Sheep Genetics to create a flock code. If you do not want to become a Sheep Genetics member and do not want ASBVs in the future, please leave the cell blank and XytoVet will apply for a special flock code on your behalf.
A3: 2 | B3: The details for the Order Summary should summarise the information about the samples.
A4: 3 | B4: The details of the animals from which samples were taken should be entered into the samples details tab. It is imperitive that the barcode information and the animal ID details are correct and that ALL the information requested on the form is included. These details get uploaded to our management system exactly as they are provided, and are used to create order forms for Sheep Genetics and AGBU. If there is any possibility that you will want ASBVs in the future, we strongly encourage assigning an SGID to each animal. This will avoid having to do tag changes in the future.
A5: 4 | B5: IF REQUESTING PARENT VERIFICATION: If you wish to run parent verification on new samples, ensure that the 'Animal Type' cell is completed for each sample in the Sample Details tab. If you wish to run parent verification against sires or dams that have been previously tested, complete the details in tabs called 'Nominated SIRE list' (green tab) or 'Nominated DAM list' (purple tab). It is important that the correct SGID and Animal ID are entered.
A6: 5 | B6: Email this form to samples@xytovet.com.au when you send your samples. XytoVet will not process your samples without an electronic copy of this form.
A8: TEST DESCRIPTIONS
A9: Genomic BVs | B9: Available to commercial Merino producers, including non-Sheep Genetic members, and delivers individual Genomic Breeding Values (GBVs) for 13 traits and 4 indexes as a 1 - 10 ranking, parent verification (if requested) and poll status.

Sheet Sample Details
A1: #VALUE! | C1: XYTOVET OVINE GBVs DNA REQUEST FORM | BB1: OvineGBVV2
A2: Client Information | E2: Billing Information | H2: Sample Information
A3: Property/Stud Name: | E3: Account Name: | H3: Project Name:
A4: Client Name: | E4: Billing Address: | H4: Consultant:
A5: Client Address: | H5: Parcel Tracking #:
H6: Collection Date:
E7: Billing Email: | H7: Flock Code:
A8: Client Email: | E8: Billing Phone:
A9: Client Phone Number: | E9: ABN:
B10: Are you a Sheep Genetics Member?:
B12: Please send samples to: | F12: Please email a copy of this form to samples@xytovet.com.au
B13: XytoVet | F13: *Failure to provide complete details may result in an additional charge for administration.
B14: Unit 3, Enterprise 1, 9 Brodie-Hall Drive | F14: Please ensure you include your name with your samples when posting to us.
B15: BENTLEY WA 6102 | F15: Please avoid posting TSUs in paper envelopes.
F16: We can supply TSU racks. We also have a Rack Return policy if you wish for us to send the racks back to you for future use. For more information, please contact us.
A19: Order Summary
A20: Species: | D20: Test Required: | H20: Number of Samples:
A21: Ovine | D21: Genomic BVs
A23: *Lab use only - XYTO number | B23: TSU ID | C23: Visual ID | D23: Strongly recommended if wanting to become SG member in future | E23: Optional | F23: M/F | G23: Year of Birth | H23: S = Sire, D = Dam, P = Progeny
A24: Sample ID | B24: TSU | C24: Animal ID | D24: SGID | E24: EID | F24: Sex | G24: YOB | H24: Animal Type | M24: Scanned
M25: =B25=VLOOKUP(B25,'Step 1. Rack Scan List'!B$2:B$691,1,FALSE) -> #N/A
M26: =B26=VLOOKUP(B26,'Step 1. Rack Scan List'!B$2:B$691,1,FALSE) -> #N/A
M27: =B27=VLOOKUP(B27,'Step 1. Rack Scan List'!B$2:B$691,1,FALSE) -> #N/A
M28: =B28=VLOOKUP(B28,'Step 1. Rack Scan List'!B$2:B$691,1,FALSE) -> #N/A
M29: =B29=VLOOKUP(B29,'Step 1. Rack Scan List'!B$2:B$691,1,FALSE) -> #N/A
M30: =B30=VLOOKUP(B30,'Step 1. Rack Scan List'!B$2:B$691,1,FALSE) -> #N/A
M31: =B31=VLOOKUP(B31,'Step 1. Rack Scan List'!B$2:B$691,1,FALSE) -> #N/A
M32: =B32=VLOOKUP(B32,'Step 1. Rack Scan List'!B$2:B$691,1,FALSE) -> #N/A
M33: =B33=VLOOKUP(B33,'Step 1. Rack Scan List'!B$2:B$691,1,FALSE) -> #N/A
M34: =B34=VLOOKUP(B34,'Step 1. Rack Scan List'!B$2:B$691,1,FALSE) -> #N/A
M35: =B35=VLOOKUP(B35,'Step 1. Rack Scan List'!B$2:B$691,1,FALSE) -> #N/A
M36: =B36=VLOOKUP(B36,'Step 1. Rack Scan List'!B$2:B$691,1,FALSE) -> #N/A
... M1397: =B1397=VLOOKUP(B1397,'Step 1. Rack Scan List'!B$2:B$691,1,FALSE) -> #N/A

Sheet Nominated SIRE list
A1: Nominated SIRES
A2: Please list all previously tested sires that you wish to nominate for parentage verification
A3: Animal ID | B3: SGID | C3: XytoVet Sample ID | D3: Order Number

Sheet Nominated DAM list
A1: Nominated DAMS
A2: Please list all previously tested dams that you wish to nominate for parentage verification
A3: Animal ID | B3: SGID | C3: XytoVet Sample ID | D3: Order Number

Sheet SGID Check
A1: Sample details SGID check | E1: Nominated Sire & Dam SGID check
B2: A | C2: =A2&B2 -> A | F2: A | G2: =_xlfn.CONCAT(F2,E2) -> A
B3: A | C3: =A3&B3 -> A | F3: A | G3: =_xlfn.CONCAT(F3,E3) -> A
B4: A | C4: =A4&B4 -> A | F4: A | G4: =_xlfn.CONCAT(F4,E4) -> A
B5: A | C5: =A5&B5 -> A | F5: A | G5: =_xlfn.CONCAT(F5,E5) -> A
B6: A | C6: =A6&B6 -> A | F6: A | G6: =_xlfn.CONCAT(F6,E6) -> A
B7: A | C7: =A7&B7 -> A | F7: A | G7: =_xlfn.CONCAT(F7,E7) -> A
B8: A | C8: =A8&B8 -> A | F8: A | G8: =_xlfn.CONCAT(F8,E8) -> A
B9: A | C9: =A9&B9 -> A | F9: A | G9: =_xlfn.CONCAT(F9,E9) -> A
B10: A | C10: =A10&B10 -> A | F10: A | G10: =_xlfn.CONCAT(F10,E10) -> A
B11: A | C11: =A11&B11 -> A | F11: A | G11: =_xlfn.CONCAT(F11,E11) -> A
B12: A | C12: =A12&B12 -> A | F12: A | G12: =_xlfn.CONCAT(F12,E12) -> A
B13: A | C13: =A13&B13 -> A | F13: A | G13: =_xlfn.CONCAT(F13,E13) -> A
... B2412: A | C2412: =A2412&B2412 -> A | F2412: A | G2412: =_xlfn.CONCAT(F2412,E2412) -> A

Sheet XYTO PV Progeny list
A1: PROGENY
A2: Sample ID | B2: Animal ID | C2: SGID | D2: Sex
A3: {=_xlfn._xlws.FILTER(IF('Sample Details'!#REF!="","",'Sample Details'!#REF!),'Sample Details'!#REF!="P")} -> #REF! | B3: {=_xlfn._xlws.FILTER(IF('Sample Details'!#REF!="","",'Sample Details'!#REF!),'Sample Details'!#REF!="P")} -> #REF! | C3: {=_xlfn._xlws.FILTER(IF('Sample Details'!#REF!="","",'Sample Details'!#REF!),'Sample Details'!#REF!="P")} -> #REF! | D3: {=_xlfn._xlws.FILTER(IF('Sample Details'!#REF!="","",'Sample Details'!#REF!),'Sample Details'!#REF!="P")} -> #REF!

Sheet XYTO PV Sire list
A1: SIRES
A2: Sample ID | B2: Animal ID | C2: SGID | D2: Sex
A3: {=_xlfn._xlws.FILTER(IF('Sample Details'!#REF!="","",'Sample Details'!#REF!),'Sample Details'!#REF!="S")} -> #REF! | B3: {=_xlfn._xlws.FILTER(IF('Sample Details'!#REF!="","",'Sample Details'!#REF!),'Sample Details'!#REF!="S")} -> #REF! | C3: {=_xlfn._xlws.FILTER(IF('Sample Details'!#REF!="","",'Sample Details'!#REF!),'Sample Details'!#REF!="S")} -> #REF! | D3: {=_xlfn._xlws.FILTER(IF('Sample Details'!#REF!="","",'Sample Details'!#REF!),'Sample Details'!#REF!="S")} -> #REF!

Sheet XYTO PV Dam list
A1: DAMS
A2: Sample ID | B2: Animal ID | C2: SGID | D2: Sex
A3: {=_xlfn._xlws.FILTER(IF('Sample Details'!#REF!="","",'Sample Details'!#REF!),'Sample Details'!#REF!="D")} -> #REF! | B3: {=_xlfn._xlws.FILTER(IF('Sample Details'!#REF!="","",'Sample Details'!#REF!),'Sample Details'!#REF!="D")} -> #REF! | C3: {=_xlfn._xlws.FILTER(IF('Sample Details'!#REF!="","",'Sample Details'!#REF!),'Sample Details'!#REF!="D")} -> #REF! | D3: {=_xlfn._xlws.FILTER(IF('Sample Details'!#REF!="","",'Sample Details'!#REF!),'Sample Details'!#REF!="D")} -> #REF!

Sheet Step 1. Rack Scan List
A1: Position | B1: ScannedTSU | C1: Plate | E1: Number | F1: In COC
E2: 1 | F2: =B2=VLOOKUP(B2,'Sample Details'!B$25:B$1988,1,FALSE) -> #N/A
E3: 2 | F3: =B3=VLOOKUP(B3,'Sample Details'!B$25:B$1988,1,FALSE) -> #N/A
E4: 3 | F4: =B4=VLOOKUP(B4,'Sample Details'!B$25:B$1988,1,FALSE) -> #N/A
E5: 4 | F5: =B5=VLOOKUP(B5,'Sample Details'!B$25:B$1988,1,FALSE) -> #N/A
E6: 5 | F6: =B6=VLOOKUP(B6,'Sample Details'!B$25:B$1988,1,FALSE) -> #N/A
E7: 6 | F7: =B7=VLOOKUP(B7,'Sample Details'!B$25:B$1988,1,FALSE) -> #N/A
E8: 7 | F8: =B8=VLOOKUP(B8,'Sample Details'!B$25:B$1988,1,FALSE) -> #N/A
E9: 8 | F9: =B9=VLOOKUP(B9,'Sample Details'!B$25:B$1988,1,FALSE) -> #N/A
E10: 9 | F10: =B10=VLOOKUP(B10,'Sample Details'!B$25:B$1988,1,FALSE) -> #N/A
E11: 10 | F11: =B11=VLOOKUP(B11,'Sample Details'!B$25:B$1988,1,FALSE) -> #N/A
E12: 11 | F12: =B12=VLOOKUP(B12,'Sample Details'!B$25:B$1988,1,FALSE) -> #N/A
E13: 12 | F13: =B13=VLOOKUP(B13,'Sample Details'!B$25:B$1988,1,FALSE) -> #N/A
... E603: 602 | F603: =B603=VLOOKUP(B603,'Sample Details'!B$25:B$1988,1,FALSE) -> #N/A
F604: =B604=VLOOKUP(B604,'Sample Details'!B$25:B$1988,1,FALSE) -> #N/A
F605: =B605=VLOOKUP(B605,'Sample Details'!B$25:B$1988,1,FALSE) -> #N/A
F606: =B606=VLOOKUP(B606,'Sample Details'!B$25:B$1988,1,FALSE) -> #N/A
F607: =B607=VLOOKUP(B607,'Sample Details'!B$25:B$1988,1,FALSE) -> #N/A
F608: =B608=VLOOKUP(B608,'Sample Details'!B$25:B$1988,1,FALSE) -> #N/A
F609: =B609=VLOOKUP(B609,'Sample Details'!B$25:B$1988,1,FALSE) -> #N/A
F610: =B610=VLOOKUP(B610,'Sample Details'!B$25:B$1988,1,FALSE) -> #N/A
F611: =B611=VLOOKUP(B611,'Sample Details'!B$25:B$1988,1,FALSE) -> #N/A
F612: =B612=VLOOKUP(B612,'Sample Details'!B$25:B$1988,1,FALSE) -> #N/A
F613: =B613=VLOOKUP(B613,'Sample Details'!B$25:B$1988,1,FALSE) -> #N/A
F614: =B614=VLOOKUP(B614,'Sample Details'!B$25:B$1988,1,FALSE) -> #N/A
F615: =B615=VLOOKUP(B615,'Sample Details'!B$25:B$1988,1,FALSE) -> #N/A
... F5124: =B5124=VLOOKUP(B5124,'Sample Details'!B$25:B$1988,1,FALSE) -> #N/A

Sheet Step 2. Discrepancies
A1: Sample No. | D1: In scan but not CoC | G1: In CoC but not in scan
A2: 1
